﻿BEGIN:VCALENDAR
VERSION:2.0
PRODID:-//hacksw/handcal//NONSGML v1.0//EN
CALSCALE:GREGORIAN
BEGIN:VEVENT
LOCATION:London
DESCRIPTION:
DTSTART:20190620T090000Z
DTEND:20190620T170000Z
SUMMARY:Morgan Stanley Europe & EEMEA Property Conference
URL;VALUE=URI:https://neinorhomes.com/accionistas-e-inversores/accionistas/agenda-del-inversor
DTSTAMP:20260422T190221Z
UID:69e8ff1d7056d
END:VEVENT
END:VCALENDAR