﻿BEGIN:VCALENDAR
VERSION:2.0
PRODID:-//hacksw/handcal//NONSGML v1.0//EN
CALSCALE:GREGORIAN
BEGIN:VEVENT
LOCATION:London
DESCRIPTION:<p>Goldman Sachs offices in London</p>
DTSTART:20190509T090000Z
DTEND:20190509T170000Z
SUMMARY:Goldman Sachs European Small & MidCap Symposium
URL;VALUE=URI:https://neinorhomes.com/accionistas-e-inversores/accionistas/agenda-del-inversor
DTSTAMP:20260422T190219Z
UID:69e8ff1b6d74a
END:VEVENT
END:VCALENDAR