﻿BEGIN:VCALENDAR
VERSION:2.0
PRODID:-//hacksw/handcal//NONSGML v1.0//EN
CALSCALE:GREGORIAN
BEGIN:VEVENT
LOCATION:Amsterdam
DESCRIPTION:<p>Amsterdam\, Netherlands</p>
DTSTART:20190523T090000Z
DTEND:20190523T180000Z
SUMMARY:Kempen - 17th European Property Seminar
URL;VALUE=URI:https://neinorhomes.com/accionistas-e-inversores/accionistas/agenda-del-inversor
DTSTAMP:20260422T203007Z
UID:69e913af40f6d
END:VEVENT
END:VCALENDAR