﻿BEGIN:VCALENDAR
VERSION:2.0
PRODID:-//hacksw/handcal//NONSGML v1.0//EN
CALSCALE:GREGORIAN
BEGIN:VEVENT
LOCATION:Bolsa de Madrid
DESCRIPTION:
DTSTART:20190528T090000Z
DTEND:20190528T170000Z
SUMMARY:Foro MedCap
URL;VALUE=URI:https://neinorhomes.com/accionistas-e-inversores/accionistas/agenda-del-inversor
DTSTAMP:20260422T190415Z
UID:69e8ff8f4e778
END:VEVENT
END:VCALENDAR