﻿BEGIN:VCALENDAR
VERSION:2.0
PRODID:-//hacksw/handcal//NONSGML v1.0//EN
CALSCALE:GREGORIAN
BEGIN:VEVENT
LOCATION:Madrid
DESCRIPTION:
DTSTART:20190522T130000Z
DTEND:20190522T140000Z
SUMMARY:Fidentiis Annual Conference
URL;VALUE=URI:https://neinorhomes.com/accionistas-e-inversores/accionistas/agenda-del-inversor
DTSTAMP:20260422T190327Z
UID:69e8ff5f0006a
END:VEVENT
END:VCALENDAR