﻿BEGIN:VCALENDAR
VERSION:2.0
PRODID:-//hacksw/handcal//NONSGML v1.0//EN
CALSCALE:GREGORIAN
BEGIN:VEVENT
LOCATION:Webcast
DESCRIPTION:<p>Pinche <a href="https://edge.media-server.com/mmc/p/gbs3fu9y" target="_blank">AQUI</a> para registrarse y escuchar el webcast.</p>
DTSTART:20191031T130000Z
DTEND:20191031T140000Z
SUMMARY:Presentación de Resultados Tercer Trimestre 2019
URL;VALUE=URI:https://neinorhomes.com/accionistas-e-inversores/accionistas/agenda-del-inversor
DTSTAMP:20260422T190454Z
UID:69e8ffb60855b
END:VEVENT
END:VCALENDAR