﻿BEGIN:VCALENDAR
VERSION:2.0
PRODID:-//hacksw/handcal//NONSGML v1.0//EN
CALSCALE:GREGORIAN
BEGIN:VEVENT
LOCATION:Webcast
DESCRIPTION:<p>Pinche <a href="https://edge.media-server.com/mmc/p/oe2s7jyr" target="_blank">AQUI</a> para escuchar el webcast.</p>
DTSTART:20190725T130000Z
DTEND:20190725T140000Z
SUMMARY:Presentación de Resultados Primer Semestre 2019
URL;VALUE=URI:https://neinorhomes.com/accionistas-e-inversores/accionistas/agenda-del-inversor
DTSTAMP:20260422T190627Z
UID:69e90013b6734
END:VEVENT
END:VCALENDAR