﻿BEGIN:VCALENDAR
VERSION:2.0
PRODID:-//hacksw/handcal//NONSGML v1.0//EN
CALSCALE:GREGORIAN
BEGIN:VEVENT
LOCATION:Webcast
DESCRIPTION:<p>Pinche <a href="https://edge.media-server.com/m6/p/m793p6qh" target="_blank">AQUI </a>para registrarse y escuchar el webcast.</p>
DTSTART:20190508T190000Z
DTEND:20190508T200000Z
SUMMARY:Presentación de Resultados Primer Trimestre 2019
URL;VALUE=URI:https://neinorhomes.com/accionistas-e-inversores/accionistas/agenda-del-inversor
DTSTAMP:20260422T202838Z
UID:69e9135629ca5
END:VEVENT
END:VCALENDAR