﻿BEGIN:VCALENDAR
VERSION:2.0
PRODID:-//hacksw/handcal//NONSGML v1.0//EN
CALSCALE:GREGORIAN
BEGIN:VEVENT
LOCATION:Bilbao
DESCRIPTION:
DTSTART:20190403T110000Z
DTEND:20190403T140000Z
SUMMARY:Junta General de Accionistas
URL;VALUE=URI:https://neinorhomes.com/accionistas-e-inversores/accionistas/agenda-del-inversor
DTSTAMP:20260422T190553Z
UID:69e8fff1e967c
END:VEVENT
END:VCALENDAR