﻿BEGIN:VCALENDAR
VERSION:2.0
PRODID:-//hacksw/handcal//NONSGML v1.0//EN
CALSCALE:GREGORIAN
BEGIN:VEVENT
LOCATION:https://edge.media-server.com/m6/p/iqughdup
DESCRIPTION:<p>Haga click <a href="https://edge.media-server.com/m6/p/iqughdup" target="_blank">AQUI</a> para registrarse.</p>
DTSTART:20190227T180000Z
DTEND:20190227T190000Z
SUMMARY:Presentación de Resultados Anuales 2018
URL;VALUE=URI:https://neinorhomes.com/accionistas-e-inversores/accionistas/agenda-del-inversor
DTSTAMP:20260422T190724Z
UID:69e9004cde0e5
END:VEVENT
END:VCALENDAR