﻿BEGIN:VCALENDAR
VERSION:2.0
PRODID:-//hacksw/handcal//NONSGML v1.0//EN
CALSCALE:GREGORIAN
BEGIN:VEVENT
LOCATION:-
DESCRIPTION:
DTSTART:20260603T150500Z
DTEND:20260603T150500Z
SUMMARY:Deutsche Bank Conferencia Annual European Leveraged Finance
URL;VALUE=URI:https://neinorhomes.com/accionistas-e-inversores/accionistas/agenda-del-inversor
DTSTAMP:20260422T190209Z
UID:69e8ff110472b
END:VEVENT
END:VCALENDAR