﻿BEGIN:VCALENDAR
VERSION:2.0
PRODID:-//hacksw/handcal//NONSGML v1.0//EN
CALSCALE:GREGORIAN
BEGIN:VEVENT
LOCATION:-
DESCRIPTION:
DTSTART:20260727T111600Z
DTEND:20260727T111600Z
SUMMARY:1H26 Presentación de Resultados
URL;VALUE=URI:https://neinorhomes.com/accionistas-e-inversores/accionistas/agenda-del-inversor
DTSTAMP:20260422T190122Z
UID:69e8fee262efc
END:VEVENT
END:VCALENDAR