﻿BEGIN:VCALENDAR
VERSION:2.0
PRODID:-//hacksw/handcal//NONSGML v1.0//EN
CALSCALE:GREGORIAN
BEGIN:VEVENT
LOCATION:-
DESCRIPTION:
DTSTART:20260522T134400Z
DTEND:20260522T134400Z
SUMMARY:Bernstein Conferencia Anual 21º Niza
URL;VALUE=URI:https://neinorhomes.com/accionistas-e-inversores/accionistas/agenda-del-inversor
DTSTAMP:20260422T190208Z
UID:69e8ff10b38a3
END:VEVENT
END:VCALENDAR