﻿BEGIN:VCALENDAR
VERSION:2.0
PRODID:-//hacksw/handcal//NONSGML v1.0//EN
CALSCALE:GREGORIAN
BEGIN:VEVENT
LOCATION:-
DESCRIPTION:
DTSTART:20260408T134100Z
DTEND:20260408T134100Z
SUMMARY:Junta General de Accionistas 2026
URL;VALUE=URI:https://neinorhomes.com/accionistas-e-inversores/accionistas/agenda-del-inversor
DTSTAMP:20260422T190122Z
UID:69e8fee24ee62
END:VEVENT
END:VCALENDAR