﻿BEGIN:VCALENDAR
VERSION:2.0
PRODID:-//hacksw/handcal//NONSGML v1.0//EN
CALSCALE:GREGORIAN
BEGIN:VEVENT
LOCATION:-
DESCRIPTION:
DTSTART:20260521T110400Z
DTEND:20260521T110400Z
SUMMARY:Kempen Seminario European Real Estate
URL;VALUE=URI:https://neinorhomes.com/accionistas-e-inversores/accionistas/agenda-del-inversor
DTSTAMP:20260422T203232Z
UID:69e91440be05e
END:VEVENT
END:VCALENDAR