﻿BEGIN:VCALENDAR
VERSION:2.0
PRODID:-//hacksw/handcal//NONSGML v1.0//EN
CALSCALE:GREGORIAN
BEGIN:VEVENT
LOCATION:-
DESCRIPTION:
DTSTART:20260108T105800Z
DTEND:20260108T105800Z
SUMMARY:Conferencia Barclays European Real Estate Equity & Credit 2026
URL;VALUE=URI:https://neinorhomes.com/accionistas-e-inversores/accionistas/agenda-del-inversor
DTSTAMP:20260422T203100Z
UID:69e913e40cbff
END:VEVENT
END:VCALENDAR