﻿BEGIN:VCALENDAR
VERSION:2.0
PRODID:-//hacksw/handcal//NONSGML v1.0//EN
CALSCALE:GREGORIAN
BEGIN:VEVENT
LOCATION:-
DESCRIPTION:
DTSTART:20261112T085100Z
DTEND:20261112T085100Z
SUMMARY:Kepler Conferencia Pan-European Real Estate 2026
URL;VALUE=URI:https://neinorhomes.com/accionistas-e-inversores/accionistas/agenda-del-inversor
DTSTAMP:20260422T190922Z
UID:69e900c21025e
END:VEVENT
END:VCALENDAR