﻿BEGIN:VCALENDAR
VERSION:2.0
PRODID:-//hacksw/handcal//NONSGML v1.0//EN
CALSCALE:GREGORIAN
BEGIN:VEVENT
LOCATION:-
DESCRIPTION:
DTSTART:20260610T084900Z
DTEND:20260610T084900Z
SUMMARY:Morgan Stanley  European Real Estate Capital Markets
URL;VALUE=URI:https://neinorhomes.com/accionistas-e-inversores/accionistas/agenda-del-inversor
DTSTAMP:20260422T190923Z
UID:69e900c30e573
END:VEVENT
END:VCALENDAR