﻿BEGIN:VCALENDAR
VERSION:2.0
PRODID:-//hacksw/handcal//NONSGML v1.0//EN
CALSCALE:GREGORIAN
BEGIN:VEVENT
LOCATION:-
DESCRIPTION:
DTSTART:20260409T084700Z
DTEND:20260409T084700Z
SUMMARY:Corporate Investor Access Alantra 
URL;VALUE=URI:https://neinorhomes.com/accionistas-e-inversores/accionistas/agenda-del-inversor
DTSTAMP:20260422T190837Z
UID:69e900955b653
END:VEVENT
END:VCALENDAR