﻿BEGIN:VCALENDAR
VERSION:2.0
PRODID:-//hacksw/handcal//NONSGML v1.0//EN
CALSCALE:GREGORIAN
BEGIN:VEVENT
LOCATION:-
DESCRIPTION:
DTSTART:20260318T084500Z
DTEND:20260318T084500Z
SUMMARY:Conferencia BOFA EMEA Real Estate CEO 2026
URL;VALUE=URI:https://neinorhomes.com/accionistas-e-inversores/accionistas/agenda-del-inversor
DTSTAMP:20260422T203108Z
UID:69e913ecb5a87
END:VEVENT
END:VCALENDAR