﻿BEGIN:VCALENDAR
VERSION:2.0
PRODID:-//hacksw/handcal//NONSGML v1.0//EN
CALSCALE:GREGORIAN
BEGIN:VEVENT
LOCATION:-
DESCRIPTION:
DTSTART:20260303T084200Z
DTEND:20260303T084200Z
SUMMARY:Conferencia de Citi Global Property CEO 2026
URL;VALUE=URI:https://neinorhomes.com/accionistas-e-inversores/accionistas/agenda-del-inversor
DTSTAMP:20260422T190807Z
UID:69e9007723d64
END:VEVENT
END:VCALENDAR