﻿BEGIN:VCALENDAR
VERSION:2.0
PRODID:-//hacksw/handcal//NONSGML v1.0//EN
CALSCALE:GREGORIAN
BEGIN:VEVENT
LOCATION:-
DESCRIPTION:
DTSTART:20251103T130400Z
DTEND:20251103T130400Z
SUMMARY:Neinor Nordics Roadshow (Dinamarca\, Finlandia\, Suecia)
URL;VALUE=URI:https://neinorhomes.com/accionistas-e-inversores/accionistas/agenda-del-inversor
DTSTAMP:20260422T202938Z
UID:69e91392b2947
END:VEVENT
END:VCALENDAR