﻿BEGIN:VCALENDAR
VERSION:2.0
PRODID:-//hacksw/handcal//NONSGML v1.0//EN
CALSCALE:GREGORIAN
BEGIN:VEVENT
LOCATION:
DESCRIPTION:
DTSTART:20251118T131200Z
DTEND:20251118T131200Z
SUMMARY:Alantra Spain Discovery Day & Conferencia Small Caps
URL;VALUE=URI:https://neinorhomes.com/accionistas-e-inversores/accionistas/agenda-del-inversor
DTSTAMP:20260422T190937Z
UID:69e900d1152b4
END:VEVENT
END:VCALENDAR