﻿BEGIN:VCALENDAR
VERSION:2.0
PRODID:-//hacksw/handcal//NONSGML v1.0//EN
CALSCALE:GREGORIAN
BEGIN:VEVENT
LOCATION:-
DESCRIPTION:
DTSTART:20250930T193900Z
DTEND:20250930T193900Z
SUMMARY:Foro Ibérico Virtual: BBVA - BME - ODDO
URL;VALUE=URI:https://neinorhomes.com/accionistas-e-inversores/accionistas/agenda-del-inversor
DTSTAMP:20260422T191002Z
UID:69e900ea1a55e
END:VEVENT
END:VCALENDAR