﻿BEGIN:VCALENDAR
VERSION:2.0
PRODID:-//hacksw/handcal//NONSGML v1.0//EN
CALSCALE:GREGORIAN
BEGIN:VEVENT
LOCATION:-
DESCRIPTION:
DTSTART:20251022T204000Z
DTEND:20251022T204000Z
SUMMARY:Roadshow Virtual de Kempen
URL;VALUE=URI:https://neinorhomes.com/accionistas-e-inversores/accionistas/agenda-del-inversor
DTSTAMP:20260422T203416Z
UID:69e914a85909d
END:VEVENT
END:VCALENDAR