﻿BEGIN:VCALENDAR
VERSION:2.0
PRODID:-//hacksw/handcal//NONSGML v1.0//EN
CALSCALE:GREGORIAN
BEGIN:VEVENT
LOCATION:-
DESCRIPTION:
DTSTART:20251202T115900Z
DTEND:20251202T115900Z
SUMMARY:Conferencia Global UBS Real Estate CEO/CFO 2025
URL;VALUE=URI:https://neinorhomes.com/accionistas-e-inversores/accionistas/agenda-del-inversor
DTSTAMP:20260422T203134Z
UID:69e91406ad211
END:VEVENT
END:VCALENDAR