﻿BEGIN:VCALENDAR
VERSION:2.0
PRODID:-//hacksw/handcal//NONSGML v1.0//EN
CALSCALE:GREGORIAN
BEGIN:VEVENT
LOCATION:-
DESCRIPTION:
DTSTART:20250725T165300Z
DTEND:20250725T165300Z
SUMMARY:1H25 Presentacion de Resultados
URL;VALUE=URI:https://neinorhomes.com/accionistas-e-inversores/accionistas/agenda-del-inversor
DTSTAMP:20260422T190220Z
UID:69e8ff1ceaad5
END:VEVENT
END:VCALENDAR