﻿BEGIN:VCALENDAR
VERSION:2.0
PRODID:-//hacksw/handcal//NONSGML v1.0//EN
CALSCALE:GREGORIAN
BEGIN:VEVENT
LOCATION:-
DESCRIPTION:
DTSTART:20251016T100100Z
DTEND:20251016T100100Z
SUMMARY:Conferencia Morgan Stanley Leveraged Finance 2025
URL;VALUE=URI:https://neinorhomes.com/accionistas-e-inversores/accionistas/agenda-del-inversor
DTSTAMP:20260422T190808Z
UID:69e90078240b2
END:VEVENT
END:VCALENDAR