﻿BEGIN:VCALENDAR
VERSION:2.0
PRODID:-//hacksw/handcal//NONSGML v1.0//EN
CALSCALE:GREGORIAN
BEGIN:VEVENT
LOCATION:-
DESCRIPTION:
DTSTART:20251203T084800Z
DTEND:20251203T084800Z
SUMMARY:Conferencia BOFA European Materials 2025
URL;VALUE=URI:https://neinorhomes.com/accionistas-e-inversores/accionistas/agenda-del-inversor
DTSTAMP:20260422T203421Z
UID:69e914ad5e78a
END:VEVENT
END:VCALENDAR