﻿BEGIN:VCALENDAR
VERSION:2.0
PRODID:-//hacksw/handcal//NONSGML v1.0//EN
CALSCALE:GREGORIAN
BEGIN:VEVENT
LOCATION:-
DESCRIPTION:
DTSTART:20250904T145700Z
DTEND:20250904T145700Z
SUMMARY:Conferencia J.P. Morgan European Leveraged Finance
URL;VALUE=URI:https://neinorhomes.com/accionistas-e-inversores/accionistas/agenda-del-inversor
DTSTAMP:20260422T203209Z
UID:69e914291d2aa
END:VEVENT
END:VCALENDAR