﻿BEGIN:VCALENDAR
VERSION:2.0
PRODID:-//hacksw/handcal//NONSGML v1.0//EN
CALSCALE:GREGORIAN
BEGIN:VEVENT
LOCATION:-
DESCRIPTION:
DTSTART:20251120T163700Z
DTEND:20251120T163700Z
SUMMARY:Conferencia Kepler Pan-European Real Estate
URL;VALUE=URI:https://neinorhomes.com/accionistas-e-inversores/accionistas/agenda-del-inversor
DTSTAMP:20260422T203417Z
UID:69e914a9a6117
END:VEVENT
END:VCALENDAR