﻿BEGIN:VCALENDAR
VERSION:2.0
PRODID:-//hacksw/handcal//NONSGML v1.0//EN
CALSCALE:GREGORIAN
BEGIN:VEVENT
LOCATION:-
DESCRIPTION:
DTSTART:20250909T163600Z
DTEND:20250909T163600Z
SUMMARY:Conferencia Kepler Otoño 2025
URL;VALUE=URI:https://neinorhomes.com/accionistas-e-inversores/accionistas/agenda-del-inversor
DTSTAMP:20260422T190628Z
UID:69e90014b631a
END:VEVENT
END:VCALENDAR