﻿BEGIN:VCALENDAR
VERSION:2.0
PRODID:-//hacksw/handcal//NONSGML v1.0//EN
CALSCALE:GREGORIAN
BEGIN:VEVENT
LOCATION:-
DESCRIPTION:
DTSTART:20250512T105900Z
DTEND:20250512T105900Z
SUMMARY:Bofa Home Builder Virtual Fieldtrip
URL;VALUE=URI:https://neinorhomes.com/accionistas-e-inversores/accionistas/agenda-del-inversor
DTSTAMP:20260422T202710Z
UID:69e912fe7b1fc
END:VEVENT
END:VCALENDAR