﻿BEGIN:VCALENDAR
VERSION:2.0
PRODID:-//hacksw/handcal//NONSGML v1.0//EN
CALSCALE:GREGORIAN
BEGIN:VEVENT
LOCATION:-
DESCRIPTION:
DTSTART:20250424T131900Z
DTEND:20250424T131900Z
SUMMARY:Alantra Small & Mid Cap Day
URL;VALUE=URI:https://neinorhomes.com/accionistas-e-inversores/accionistas/agenda-del-inversor
DTSTAMP:20260422T190923Z
UID:69e900c3928a4
END:VEVENT
END:VCALENDAR