﻿BEGIN:VCALENDAR
VERSION:2.0
PRODID:-//hacksw/handcal//NONSGML v1.0//EN
CALSCALE:GREGORIAN
BEGIN:VEVENT
LOCATION:-
DESCRIPTION:
DTSTART:20250522T111700Z
DTEND:20250522T111700Z
SUMMARY:Seminario Kempen European Real Estate
URL;VALUE=URI:https://neinorhomes.com/accionistas-e-inversores/accionistas/agenda-del-inversor
DTSTAMP:20260422T190930Z
UID:69e900ca95225
END:VEVENT
END:VCALENDAR