﻿BEGIN:VCALENDAR
VERSION:2.0
PRODID:-//hacksw/handcal//NONSGML v1.0//EN
CALSCALE:GREGORIAN
BEGIN:VEVENT
LOCATION:-
DESCRIPTION:
DTSTART:20250612T111600Z
DTEND:20250612T111600Z
SUMMARY:ODDO BHF NEXTCAP Foro
URL;VALUE=URI:https://neinorhomes.com/accionistas-e-inversores/accionistas/agenda-del-inversor
DTSTAMP:20260422T190755Z
UID:69e9006b82f55
END:VEVENT
END:VCALENDAR