﻿BEGIN:VCALENDAR
VERSION:2.0
PRODID:-//hacksw/handcal//NONSGML v1.0//EN
CALSCALE:GREGORIAN
BEGIN:VEVENT
LOCATION:-
DESCRIPTION:
DTSTART:20250528T184600Z
DTEND:20250528T184600Z
SUMMARY:BME Foro MedCap 2025  
URL;VALUE=URI:https://neinorhomes.com/accionistas-e-inversores/accionistas/agenda-del-inversor
DTSTAMP:20260422T190753Z
UID:69e90069f20f6
END:VEVENT
END:VCALENDAR