﻿BEGIN:VCALENDAR
VERSION:2.0
PRODID:-//hacksw/handcal//NONSGML v1.0//EN
CALSCALE:GREGORIAN
BEGIN:VEVENT
LOCATION:-
DESCRIPTION:
DTSTART:20250304T140300Z
DTEND:20250304T140300Z
SUMMARY:30ª Conferencia Anual Global Property CEO de Citi
URL;VALUE=URI:https://neinorhomes.com/accionistas-e-inversores/accionistas/agenda-del-inversor
DTSTAMP:20260422T203416Z
UID:69e914a85907e
END:VEVENT
END:VCALENDAR