﻿BEGIN:VCALENDAR
VERSION:2.0
PRODID:-//hacksw/handcal//NONSGML v1.0//EN
CALSCALE:GREGORIAN
BEGIN:VEVENT
LOCATION:-
DESCRIPTION:
DTSTART:20250319T130700Z
DTEND:20250319T130700Z
SUMMARY:Conferencia Bofa EMEA Real Estate CEO 2025
URL;VALUE=URI:https://neinorhomes.com/accionistas-e-inversores/accionistas/agenda-del-inversor
DTSTAMP:20260422T190645Z
UID:69e900253b1c3
END:VEVENT
END:VCALENDAR