﻿BEGIN:VCALENDAR
VERSION:2.0
PRODID:-//hacksw/handcal//NONSGML v1.0//EN
CALSCALE:GREGORIAN
BEGIN:VEVENT
LOCATION:-
DESCRIPTION:
DTSTART:20250130T130700Z
DTEND:20250130T130700Z
SUMMARY:Conferencia Santander Iberian
URL;VALUE=URI:https://neinorhomes.com/accionistas-e-inversores/accionistas/agenda-del-inversor
DTSTAMP:20260422T203335Z
UID:69e9147feeb7e
END:VEVENT
END:VCALENDAR