﻿BEGIN:VCALENDAR
VERSION:2.0
PRODID:-//hacksw/handcal//NONSGML v1.0//EN
CALSCALE:GREGORIAN
BEGIN:VEVENT
LOCATION:-
DESCRIPTION:
DTSTART:20250109T130500Z
DTEND:20250109T130500Z
SUMMARY:Conferencia Barclays European Real Estate Equity & Credit 2025 
URL;VALUE=URI:https://neinorhomes.com/accionistas-e-inversores/accionistas/agenda-del-inversor
DTSTAMP:20260422T203233Z
UID:69e914411a340
END:VEVENT
END:VCALENDAR