﻿BEGIN:VCALENDAR
VERSION:2.0
PRODID:-//hacksw/handcal//NONSGML v1.0//EN
CALSCALE:GREGORIAN
BEGIN:VEVENT
LOCATION:-
DESCRIPTION:
DTSTART:20241218T131000Z
DTEND:20241218T131000Z
SUMMARY:Junta General de Accionistas extraordinaria 2024
URL;VALUE=URI:https://neinorhomes.com/accionistas-e-inversores/accionistas/agenda-del-inversor
DTSTAMP:20260422T202940Z
UID:69e91394a5f6d
END:VEVENT
END:VCALENDAR