﻿BEGIN:VCALENDAR
VERSION:2.0
PRODID:-//hacksw/handcal//NONSGML v1.0//EN
CALSCALE:GREGORIAN
BEGIN:VEVENT
LOCATION:-
DESCRIPTION:
DTSTART:20241002T130600Z
DTEND:20241002T130600Z
SUMMARY:Oddo Iberian Forum
URL;VALUE=URI:https://neinorhomes.com/accionistas-e-inversores/accionistas/agenda-del-inversor
DTSTAMP:20260422T203417Z
UID:69e914a92ad72
END:VEVENT
END:VCALENDAR