﻿BEGIN:VCALENDAR
VERSION:2.0
PRODID:-//hacksw/handcal//NONSGML v1.0//EN
CALSCALE:GREGORIAN
BEGIN:VEVENT
LOCATION:-
DESCRIPTION:
DTSTART:20240522T183500Z
DTEND:20240522T183500Z
SUMMARY:Seminario de Promotoras Renta4
URL;VALUE=URI:https://neinorhomes.com/accionistas-e-inversores/accionistas/agenda-del-inversor
DTSTAMP:20260422T190756Z
UID:69e9006c07ae4
END:VEVENT
END:VCALENDAR