﻿BEGIN:VCALENDAR
VERSION:2.0
PRODID:-//hacksw/handcal//NONSGML v1.0//EN
CALSCALE:GREGORIAN
BEGIN:VEVENT
LOCATION:+Outlook / iCal
DESCRIPTION:
DTSTART:20240321T225100Z
DTEND:20240321T225100Z
SUMMARY:Bank of America Real Estate CEO Conference 2024
URL;VALUE=URI:https://neinorhomes.com/accionistas-e-inversores/accionistas/agenda-del-inversor
DTSTAMP:20260422T191053Z
UID:69e9011d12fb8
END:VEVENT
END:VCALENDAR