﻿BEGIN:VCALENDAR
VERSION:2.0
PRODID:-//hacksw/handcal//NONSGML v1.0//EN
CALSCALE:GREGORIAN
BEGIN:VEVENT
LOCATION:+Outlook / iCal +Google Calendar
DESCRIPTION:
DTSTART:20240112T152800Z
DTEND:20240112T152800Z
SUMMARY:Barclays European Real Estate Conference
URL;VALUE=URI:https://neinorhomes.com/accionistas-e-inversores/accionistas/agenda-del-inversor
DTSTAMP:20260422T203233Z
UID:69e9144193c0a
END:VEVENT
END:VCALENDAR