﻿BEGIN:VCALENDAR
VERSION:2.0
PRODID:-//hacksw/handcal//NONSGML v1.0//EN
CALSCALE:GREGORIAN
BEGIN:VEVENT
LOCATION:+Outlook / iCal +Google Calendar
DESCRIPTION:
DTSTART:20231115T090300Z
DTEND:20231115T090300Z
SUMMARY:Conferencia Inmobiliaria Pan-Europea de Kepler
URL;VALUE=URI:https://neinorhomes.com/accionistas-e-inversores/accionistas/agenda-del-inversor
DTSTAMP:20260422T190924Z
UID:69e900c4876ff
END:VEVENT
END:VCALENDAR