﻿BEGIN:VCALENDAR
VERSION:2.0
PRODID:-//hacksw/handcal//NONSGML v1.0//EN
CALSCALE:GREGORIAN
BEGIN:VEVENT
LOCATION:+Outlook / iCal +Google Calendar
DESCRIPTION:
DTSTART:20231018T135800Z
DTEND:20231018T135800Z
SUMMARY:Pago Dividendos
URL;VALUE=URI:https://neinorhomes.com/accionistas-e-inversores/accionistas/agenda-del-inversor
DTSTAMP:20260422T203134Z
UID:69e9140632681
END:VEVENT
END:VCALENDAR