﻿BEGIN:VCALENDAR
VERSION:2.0
PRODID:-//hacksw/handcal//NONSGML v1.0//EN
CALSCALE:GREGORIAN
BEGIN:VEVENT
LOCATION:-
DESCRIPTION:
DTSTART:20231005T120700Z
DTEND:20231005T120700Z
SUMMARY:ODDO BHF Iberian Forum
URL;VALUE=URI:https://neinorhomes.com/accionistas-e-inversores/accionistas/agenda-del-inversor
DTSTAMP:20260422T190419Z
UID:69e8ff931e1da
END:VEVENT
END:VCALENDAR