﻿BEGIN:VCALENDAR
VERSION:2.0
PRODID:-//hacksw/handcal//NONSGML v1.0//EN
CALSCALE:GREGORIAN
BEGIN:VEVENT
LOCATION:Dubai
DESCRIPTION:
DTSTART:20231002T120600Z
DTEND:20231004T120600Z
SUMMARY:Middle East Roadshow
URL;VALUE=URI:https://neinorhomes.com/accionistas-e-inversores/accionistas/agenda-del-inversor
DTSTAMP:20260422T202813Z
UID:69e9133d0d0bd
END:VEVENT
END:VCALENDAR